BEGIN:VCALENDAR
VERSION:2.0
PRODID:spatie/icalendar-generator
DESCRIPTION:Évènements de UTL Landerneau
X-WR-CALDESC:Évènements de UTL Landerneau
REFRESH-INTERVAL;VALUE=DURATION:PT1440M
X-PUBLISHED-TTL:PT1440M
BEGIN:VTIMEZONE
TZID:Europe/Paris
BEGIN:STANDARD
DTSTART:20251026T030000Z
TZOFFSETFROM:+0200
TZOFFSETTO:+0100
END:STANDARD
BEGIN:DAYLIGHT
DTSTART:20260329T020000Z
TZOFFSETFROM:+0100
TZOFFSETTO:+0200
END:DAYLIGHT
BEGIN:STANDARD
DTSTART:20261025T030000Z
TZOFFSETFROM:+0200
TZOFFSETTO:+0100
END:STANDARD
END:VTIMEZONE
BEGIN:VTIMEZONE
TZID:UTC
BEGIN:STANDARD
DTSTART:20250725T102525Z
TZOFFSETFROM:+0000
TZOFFSETTO:+0000
END:STANDARD
END:VTIMEZONE
BEGIN:VEVENT
UID:924-642
DTSTAMP:20260421T102525Z
SUMMARY:Visite usine Cellaouate Morlaix
LOCATION:
ORGANIZER;CN=UTL-Landerneau:MAILTO:nlebras@expression-bretagne.com
DTSTART;TZID=Europe/Paris:20260402T140000
DTEND;TZID=Europe/Paris:20260402T150000
X-ALT-DESC;FMTTYPE=TEXT/HTML:
CATEGORIES:Sorties
URL;VALUE=URI:https://www.utl-landerneau.com/my-calendar/?mc_id=924
METHOD:PUBLISH
END:VEVENT
BEGIN:VEVENT
UID:931-649
DTSTAMP:20260421T102525Z
SUMMARY:Permanence
LOCATION:
ORGANIZER;CN=UTL-Landerneau:MAILTO:nlebras@expression-bretagne.com
DTSTART;TZID=Europe/Paris:20260403T100000
DTEND;TZID=Europe/Paris:20260403T120000
X-ALT-DESC;FMTTYPE=TEXT/HTML:
CATEGORIES:Permanences
URL;VALUE=URI:https://www.utl-landerneau.com/my-calendar/?mc_id=931
METHOD:PUBLISH
END:VEVENT
BEGIN:VEVENT
UID:922-640
DTSTAMP:20260421T102525Z
SUMMARY:Cinéma \"Ni chaines\, ni maitre\"
LOCATION:
ORGANIZER;CN=UTL-Landerneau:MAILTO:nlebras@expression-bretagne.com
DTSTART;TZID=Europe/Paris:20260407T140000
DTEND;TZID=Europe/Paris:20260407T150000
X-ALT-DESC;FMTTYPE=TEXT/HTML:
CATEGORIES:Cinéma
URL;VALUE=URI:https://www.utl-landerneau.com/my-calendar/?mc_id=922
METHOD:PUBLISH
END:VEVENT
BEGIN:VEVENT
UID:917-635
DTSTAMP:20260421T102525Z
SUMMARY:Conférence \"La science a encore beaucoup d'ennemis\" Georges Mita
 ut
LOCATION:
ORGANIZER;CN=UTL-Landerneau:MAILTO:nlebras@expression-bretagne.com
DTSTART;TZID=Europe/Paris:20260421T140000
DTEND;TZID=Europe/Paris:20260421T150000
X-ALT-DESC;FMTTYPE=TEXT/HTML:
CATEGORIES:Conférences
URL;VALUE=URI:https://www.utl-landerneau.com/my-calendar/?mc_id=917
METHOD:PUBLISH
END:VEVENT
BEGIN:VEVENT
UID:925-643
DTSTAMP:20260421T102525Z
SUMMARY:Musée Mémoire Plougonvelin
LOCATION:
ORGANIZER;CN=UTL-Landerneau:MAILTO:nlebras@expression-bretagne.com
DTSTART;TZID=Europe/Paris:20260423T131500
DTEND;TZID=Europe/Paris:20260423T141500
X-ALT-DESC;FMTTYPE=TEXT/HTML:
CATEGORIES:Sorties
URL;VALUE=URI:https://www.utl-landerneau.com/my-calendar/?mc_id=925
METHOD:PUBLISH
END:VEVENT
BEGIN:VEVENT
UID:932-650
DTSTAMP:20260421T102525Z
SUMMARY:Permanence
LOCATION:
ORGANIZER;CN=UTL-Landerneau:MAILTO:nlebras@expression-bretagne.com
DTSTART;TZID=Europe/Paris:20260424T100000
DTEND;TZID=Europe/Paris:20260424T120000
X-ALT-DESC;FMTTYPE=TEXT/HTML:
CATEGORIES:Permanences
URL;VALUE=URI:https://www.utl-landerneau.com/my-calendar/?mc_id=932
METHOD:PUBLISH
END:VEVENT
BEGIN:VEVENT
UID:918-636
DTSTAMP:20260421T102525Z
SUMMARY:Conférence \"Petit tour du Théatre occidental\" Fanette Journiaux
LOCATION:
ORGANIZER;CN=UTL-Landerneau:MAILTO:nlebras@expression-bretagne.com
DTSTART;TZID=Europe/Paris:20260428T140000
DTEND;TZID=Europe/Paris:20260428T150000
X-ALT-DESC;FMTTYPE=TEXT/HTML:
CATEGORIES:
URL;VALUE=URI:https://www.utl-landerneau.com/my-calendar/?mc_id=918
METHOD:PUBLISH
END:VEVENT
END:VCALENDAR